BEGIN:VCALENDAR
VERSION:2.0
PRODID:-//Hofladen Leipzig Agrarprodukte Kitzen | Regionale Produkte direkt vom Landwirt - ECPv6.10.2//NONSGML v1.0//EN
CALSCALE:GREGORIAN
METHOD:PUBLISH
X-WR-CALNAME:Hofladen Leipzig Agrarprodukte Kitzen | Regionale Produkte direkt vom Landwirt
X-ORIGINAL-URL:https://www.hofladenleipzig.de
X-WR-CALDESC:Veranstaltungen für Hofladen Leipzig Agrarprodukte Kitzen | Regionale Produkte direkt vom Landwirt
REFRESH-INTERVAL;VALUE=DURATION:PT1H
X-Robots-Tag:noindex
X-PUBLISHED-TTL:PT1H
BEGIN:VTIMEZONE
TZID:Europe/Berlin
BEGIN:DAYLIGHT
TZOFFSETFROM:+0100
TZOFFSETTO:+0200
TZNAME:CEST
DTSTART:20230326T010000
END:DAYLIGHT
BEGIN:STANDARD
TZOFFSETFROM:+0200
TZOFFSETTO:+0100
TZNAME:CET
DTSTART:20231029T010000
END:STANDARD
BEGIN:DAYLIGHT
TZOFFSETFROM:+0100
TZOFFSETTO:+0200
TZNAME:CEST
DTSTART:20240331T010000
END:DAYLIGHT
BEGIN:STANDARD
TZOFFSETFROM:+0200
TZOFFSETTO:+0100
TZNAME:CET
DTSTART:20241027T010000
END:STANDARD
END:VTIMEZONE
BEGIN:VEVENT
DTSTART;TZID=Europe/Berlin:20240104T150000
DTEND;TZID=Europe/Berlin:20240104T170000
DTSTAMP:20260422T185745
CREATED:20231221T073354Z
LAST-MODIFIED:20231221T073354Z
UID:10001316-1704380400-1704387600@www.hofladenleipzig.de
SUMMARY:Begrüßung Jahr 2024
DESCRIPTION:Stoßt an diesem Tag in der Zeit von 15-17 Uhr mit uns bei einem Becher Glühwein auf ein erfolgreiches Jahr 2024 an.
URL:https://www.hofladenleipzig.de/event/begruessung-jahr-2024/
LOCATION:Hofladen Leipzig\, Raiffeisenstraße 51\, Leipzig\, Sachsen\, 04249\, Deutschland
CATEGORIES:Abendveranstaltungen,Veranstaltungen
END:VEVENT
BEGIN:VEVENT
DTSTART;TZID=Europe/Berlin:20231213T100000
DTEND;TZID=Europe/Berlin:20231213T123000
DTSTAMP:20260422T185745
CREATED:20230809T092030Z
LAST-MODIFIED:20231128T131022Z
UID:10001308-1702461600-1702470600@www.hofladenleipzig.de
SUMMARY:Stallführung mit Verkostung
DESCRIPTION:Komm vorbei und schau dir den „Gläsernen Kuhstall“ ganz genau an! Hier bekommst du Landwirtschaft zum selbst Erleben und Anfassen. \nDu erhältst neben einer spannenden Führung frische Milch und eine Verkostung feinster regionaler Produkte\, wie zum Beispiel Käse unserer Hofmolkerei und Wurst aus eigener Erzeugung. Informiere dich über die moderne Landwirtschaft in Leipzig und unterstütze deinen Bauern vor Ort. \n✔ Exklusive Führung\n✔ Zum Erleben und Anfassen\n✔ Inklusive leckerer Verkostung \nBuche jetzt deine Führung und lass dich von der Vielfalt der Landwirtschaft begeistern!
URL:https://www.hofladenleipzig.de/event/stallfuehrung-mit-verkostung-9/
LOCATION:Hofladen Leipzig\, Raiffeisenstraße 51\, Leipzig\, Sachsen\, 04249\, Deutschland
CATEGORIES:Führungen
ATTACH;FMTTYPE=image/jpeg:https://www.hofladenleipzig.de/wp-content/uploads/stallfuehrungen-kitzen-leipzig.jpg
END:VEVENT
BEGIN:VEVENT
DTSTART;TZID=Europe/Berlin:20231206T160000
DTEND;TZID=Europe/Berlin:20231206T180000
DTSTAMP:20260422T185745
CREATED:20231027T055643Z
LAST-MODIFIED:20231027T055643Z
UID:10001313-1701878400-1701885600@www.hofladenleipzig.de
SUMMARY:Zeigt her eure Stiefel\, wir füllen eure Schuh
DESCRIPTION:﻿﻿﻿﻿Bringt vom 30.11.-02.12. eure Schuh für 10 € in den Hofladen und wir füllen diese mit Leckereien. Abholen könnt ihr sie am 06.12. von 16-18 Uhr im Hofladen. Wir bieten euch eine Tasse\, Kaffee\noder Kakao und ein Stück Stolle an.
URL:https://www.hofladenleipzig.de/event/zeigt-her-eure-stiefel-wir-fuellen-eure-schuh/
LOCATION:Hofladen Leipzig\, Raiffeisenstraße 51\, Leipzig\, Sachsen\, 04249\, Deutschland
CATEGORIES:Abendveranstaltungen,Veranstaltungen
END:VEVENT
BEGIN:VEVENT
DTSTART;TZID=Europe/Berlin:20231202T120000
DTEND;TZID=Europe/Berlin:20231202T170000
DTSTAMP:20260422T185745
CREATED:20231027T061130Z
LAST-MODIFIED:20231027T061130Z
UID:10001315-1701518400-1701536400@www.hofladenleipzig.de
SUMMARY:Weihnachtsmarkt am Hofladen
DESCRIPTION:Was gibt es zu erleben?\nStrohhüpfburg\, Tierausstellung\, Stallführungen\,Weihnachtsbaumverkauf\n\nWas gibt es zum Essen und Trinken?\nBratwurst und Steak\, Fettbemme\, Stolle\, Gebäck\, Glühwein für Große und Kleine\, warme Milchgetränke\, Kaffee\, Kräppelchen \nWer ist dabei?\nKettensägemann\, Bürsten Eggi\, Muldenthaler Wachtelfarm\, Imkerei Kern\, Anni von Naehrebell (Selbstgeschneidertes wie Taschen\, Kleidung\, Accesoires)\, Markranstädter Werkstätten u.v.m.\nGeschenkideen bei weihnachtlicher Stimmung
URL:https://www.hofladenleipzig.de/event/weihnachtsmarkt-am-hofladen/
LOCATION:Hofladen Leipzig\, Raiffeisenstraße 51\, Leipzig\, Sachsen\, 04249\, Deutschland
CATEGORIES:Abendveranstaltungen,Veranstaltungen
ATTACH;FMTTYPE=image/jpeg:https://www.hofladenleipzig.de/wp-content/uploads/Weihnachtsmarkt.jpg
END:VEVENT
BEGIN:VEVENT
DTSTART;VALUE=DATE:20231201
DTEND;VALUE=DATE:20231223
DTSTAMP:20260422T185745
CREATED:20231027T060014Z
LAST-MODIFIED:20231027T060014Z
UID:10001314-1701388800-1703289599@www.hofladenleipzig.de
SUMMARY:Adventskalender im Dezember
DESCRIPTION:﻿Entdeckt unseren Adventskalender an den Öffnungstagen im Dezember mit Überraschungen und Angeboten.
URL:https://www.hofladenleipzig.de/event/adventskalender/
LOCATION:Hofladen Leipzig\, Raiffeisenstraße 51\, Leipzig\, Sachsen\, 04249\, Deutschland
CATEGORIES:Abendveranstaltungen,Veranstaltungen
END:VEVENT
BEGIN:VEVENT
DTSTART;TZID=Europe/Berlin:20231122T100000
DTEND;TZID=Europe/Berlin:20231122T123000
DTSTAMP:20260422T185745
CREATED:20230809T091936Z
LAST-MODIFIED:20231113T115733Z
UID:10001307-1700647200-1700656200@www.hofladenleipzig.de
SUMMARY:Stallführung mit Verkostung
DESCRIPTION:Komm vorbei und schau dir den „Gläsernen Kuhstall“ ganz genau an! Hier bekommst du Landwirtschaft zum selbst Erleben und Anfassen. \nDu erhältst neben einer spannenden Führung frische Milch und eine Verkostung feinster regionaler Produkte\, wie zum Beispiel Käse unserer Hofmolkerei und Wurst aus eigener Erzeugung. Informiere dich über die moderne Landwirtschaft in Leipzig und unterstütze deinen Bauern vor Ort. \n✔ Exklusive Führung\n✔ Zum Erleben und Anfassen\n✔ Inklusive leckerer Verkostung \nBuche jetzt deine Führung und lass dich von der Vielfalt der Landwirtschaft begeistern!
URL:https://www.hofladenleipzig.de/event/stallfuehrung-mit-verkostung-8/
LOCATION:Hofladen Leipzig\, Raiffeisenstraße 51\, Leipzig\, Sachsen\, 04249\, Deutschland
CATEGORIES:Führungen
ATTACH;FMTTYPE=image/jpeg:https://www.hofladenleipzig.de/wp-content/uploads/stallfuehrungen-kitzen-leipzig.jpg
END:VEVENT
BEGIN:VEVENT
DTSTART;TZID=Europe/Berlin:20231110T160000
DTEND;TZID=Europe/Berlin:20231110T183000
DTSTAMP:20260422T185745
CREATED:20230809T091818Z
LAST-MODIFIED:20230809T091818Z
UID:10001306-1699632000-1699641000@www.hofladenleipzig.de
SUMMARY:Stallführung mit Verkostung
DESCRIPTION:Komm vorbei und schau dir den „Gläsernen Kuhstall“ ganz genau an! Hier bekommst du Landwirtschaft zum selbst Erleben und Anfassen. \nDu erhältst neben einer spannenden Führung frische Milch und eine Verkostung feinster regionaler Produkte\, wie zum Beispiel Käse unserer Hofmolkerei und Wurst aus eigener Erzeugung. Informiere dich über die moderne Landwirtschaft in Leipzig und unterstütze deinen Bauern vor Ort. \n✔ Exklusive Führung\n✔ Zum Erleben und Anfassen\n✔ Inklusive leckerer Verkostung \nBuche jetzt deine Führung und lass dich von der Vielfalt der Landwirtschaft begeistern!
URL:https://www.hofladenleipzig.de/event/stallfuehrung-mit-verkostung-7/
LOCATION:Hofladen Leipzig\, Raiffeisenstraße 51\, Leipzig\, Sachsen\, 04249\, Deutschland
CATEGORIES:Führungen
ATTACH;FMTTYPE=image/jpeg:https://www.hofladenleipzig.de/wp-content/uploads/stallfuehrungen-kitzen-leipzig.jpg
END:VEVENT
BEGIN:VEVENT
DTSTART;TZID=Europe/Berlin:20231103T160000
DTEND;TZID=Europe/Berlin:20231103T190000
DTSTAMP:20260422T185745
CREATED:20231027T055156Z
LAST-MODIFIED:20231027T055156Z
UID:10001312-1699027200-1699038000@www.hofladenleipzig.de
SUMMARY:Halloween-Party
DESCRIPTION:﻿﻿Stellt eure geschnitzten Kürbisse mit Kerze oder Windlicht vor dem\nHofladen auf. Die Originellsten werden prämiert.\nWir grillen und trinken Glühwein mit euch.
URL:https://www.hofladenleipzig.de/event/halloween-party/
LOCATION:Hofladen Leipzig\, Raiffeisenstraße 51\, Leipzig\, Sachsen\, 04249\, Deutschland
CATEGORIES:Abendveranstaltungen,Veranstaltungen
ATTACH;FMTTYPE=image/jpeg:https://www.hofladenleipzig.de/wp-content/uploads/Deckblatt-Veranstaltungskalender.jpg
END:VEVENT
BEGIN:VEVENT
DTSTART;TZID=Europe/Berlin:20231027T100000
DTEND;TZID=Europe/Berlin:20231027T123000
DTSTAMP:20260422T185745
CREATED:20230809T091637Z
LAST-MODIFIED:20230809T091637Z
UID:10001305-1698400800-1698409800@www.hofladenleipzig.de
SUMMARY:Stallführung mit Verkostung
DESCRIPTION:Komm vorbei und schau dir den „Gläsernen Kuhstall“ ganz genau an! Hier bekommst du Landwirtschaft zum selbst Erleben und Anfassen. \nDu erhältst neben einer spannenden Führung frische Milch und eine Verkostung feinster regionaler Produkte\, wie zum Beispiel Käse unserer Hofmolkerei und Wurst aus eigener Erzeugung. Informiere dich über die moderne Landwirtschaft in Leipzig und unterstütze deinen Bauern vor Ort. \n✔ Exklusive Führung\n✔ Zum Erleben und Anfassen\n✔ Inklusive leckerer Verkostung \nBuche jetzt deine Führung und lass dich von der Vielfalt der Landwirtschaft begeistern!
URL:https://www.hofladenleipzig.de/event/stallfuehrung-mit-verkostung-6/
LOCATION:Hofladen Leipzig\, Raiffeisenstraße 51\, Leipzig\, Sachsen\, 04249\, Deutschland
CATEGORIES:Führungen
ATTACH;FMTTYPE=image/jpeg:https://www.hofladenleipzig.de/wp-content/uploads/stallfuehrungen-kitzen-leipzig.jpg
END:VEVENT
BEGIN:VEVENT
DTSTART;TZID=Europe/Berlin:20231021T100000
DTEND;TZID=Europe/Berlin:20231021T123000
DTSTAMP:20260422T185745
CREATED:20230809T091327Z
LAST-MODIFIED:20230809T091424Z
UID:10001304-1697882400-1697891400@www.hofladenleipzig.de
SUMMARY:Stallführung mit Verkostung
DESCRIPTION:Komm vorbei und schau dir den „Gläsernen Kuhstall“ ganz genau an! Hier bekommst du Landwirtschaft zum selbst Erleben und Anfassen. \nDu erhältst neben einer spannenden Führung frische Milch und eine Verkostung feinster regionaler Produkte\, wie zum Beispiel Käse unserer Hofmolkerei und Wurst aus eigener Erzeugung. Informiere dich über die moderne Landwirtschaft in Leipzig und unterstütze deinen Bauern vor Ort. \n✔ Exklusive Führung\n✔ Zum Erleben und Anfassen\n✔ Inklusive leckerer Verkostung \nBuche jetzt deine Führung und lass dich von der Vielfalt der Landwirtschaft begeistern!
URL:https://www.hofladenleipzig.de/event/stallfuehrung-mit-verkostung-5/
LOCATION:Hofladen Leipzig\, Raiffeisenstraße 51\, Leipzig\, Sachsen\, 04249\, Deutschland
CATEGORIES:Führungen
ATTACH;FMTTYPE=image/jpeg:https://www.hofladenleipzig.de/wp-content/uploads/stallfuehrungen-kitzen-leipzig.jpg
END:VEVENT
BEGIN:VEVENT
DTSTART;TZID=Europe/Berlin:20230930T100000
DTEND;TZID=Europe/Berlin:20230930T123000
DTSTAMP:20260422T185745
CREATED:20230809T091151Z
LAST-MODIFIED:20230809T091444Z
UID:10001303-1696068000-1696077000@www.hofladenleipzig.de
SUMMARY:Stallführung mit Verkostung
DESCRIPTION:Komm vorbei und schau dir den „Gläsernen Kuhstall“ ganz genau an! Hier bekommst du Landwirtschaft zum selbst Erleben und Anfassen. \nDu erhältst neben einer spannenden Führung frische Milch und eine Verkostung feinster regionaler Produkte\, wie zum Beispiel Käse unserer Hofmolkerei und Wurst aus eigener Erzeugung. Informiere dich über die moderne Landwirtschaft in Leipzig und unterstütze deinen Bauern vor Ort. \n✔ Exklusive Führung\n✔ Zum Erleben und Anfassen\n✔ Inklusive leckerer Verkostung \nBuche jetzt deine Führung und lass dich von der Vielfalt der Landwirtschaft begeistern!
URL:https://www.hofladenleipzig.de/event/stallfuehrung-mit-verkostung-4/
LOCATION:Hofladen Leipzig\, Raiffeisenstraße 51\, Leipzig\, Sachsen\, 04249\, Deutschland
CATEGORIES:Führungen
ATTACH;FMTTYPE=image/jpeg:https://www.hofladenleipzig.de/wp-content/uploads/stallfuehrungen-kitzen-leipzig.jpg
END:VEVENT
BEGIN:VEVENT
DTSTART;TZID=Europe/Berlin:20230923T100000
DTEND;TZID=Europe/Berlin:20230923T160000
DTSTAMP:20260422T185745
CREATED:20230809T092435Z
LAST-MODIFIED:20230823T102340Z
UID:10001310-1695463200-1695484800@www.hofladenleipzig.de
SUMMARY:Hoffest
DESCRIPTION:Es ist wieder soweit! Unser Hoffest findet statt.  Komm vorbei\, genieße tolle regionale Produkte und erlebe Landwirtschaft hautnah. \nAuf über 50.000 qm Fläche erwarten dich: \n\nFührungen im „Gläsernen Kuhstall“\nEin Bauernmarkt mit regionalen Produkten\nFestzelt mit Informationen rund um die Milch\nVorführung der Universität Leipzig\nSpielwiese für Klein und Groß\nRegionale Speisen und Getränke\nund vieles mehr!\n\nMehr Infos zum Hoffest \nKomm vorbei! Wir freuen uns auf deinen Besuch! \n 
URL:https://www.hofladenleipzig.de/event/hoffest/
LOCATION:Hofladen Leipzig\, Raiffeisenstraße 51\, Leipzig\, Sachsen\, 04249\, Deutschland
CATEGORIES:Veranstaltungen
END:VEVENT
BEGIN:VEVENT
DTSTART;TZID=Europe/Berlin:20230804T120000
DTEND;TZID=Europe/Berlin:20230804T143000
DTSTAMP:20260422T185745
CREATED:20230612T072802Z
LAST-MODIFIED:20230809T092604Z
UID:10001299-1691150400-1691159400@www.hofladenleipzig.de
SUMMARY:Stallführung mit Verkostung
DESCRIPTION:Komm vorbei und schau dir den „Gläsernen Kuhstall“ ganz genau an! Hier bekommst du Landwirtschaft zum selbst Erleben und Anfassen. \nDu erhältst neben einer spannenden Führung frische Milch und eine Verkostung feinster regionaler Produkte\, wie zum Beispiel Käse unserer Hofmolkerei und Wurst aus eigener Erzeugung. Informiere dich über die moderne Landwirtschaft in Leipzig und unterstütze deinen Bauern vor Ort. \n✔ Exklusive Führung\n✔ Zum Erleben und Anfassen\n✔ Inklusive leckerer Verkostung \nBuche jetzt deine Führung und lass dich von der Vielfalt der Landwirtschaft begeistern!
URL:https://www.hofladenleipzig.de/event/stallfuehrung-mit-verkostung-3/
LOCATION:Hofladen Leipzig\, Raiffeisenstraße 51\, Leipzig\, Sachsen\, 04249\, Deutschland
CATEGORIES:Führungen
ATTACH;FMTTYPE=image/jpeg:https://www.hofladenleipzig.de/wp-content/uploads/stallfuehrungen-bauern-agrarprodukte-kitzen-leipzig-v2.jpg
END:VEVENT
BEGIN:VEVENT
DTSTART;TZID=Europe/Berlin:20230804T090000
DTEND;TZID=Europe/Berlin:20230804T113000
DTSTAMP:20260422T185745
CREATED:20230612T072649Z
LAST-MODIFIED:20230703T133236Z
UID:10001298-1691139600-1691148600@www.hofladenleipzig.de
SUMMARY:Stallführung mit Verkostung
DESCRIPTION:Komm vorbei und schau dir den „Gläsernen Kuhstall“ ganz genau an! Hier bekommst du Landwirtschaft zum selbst Erleben und Anfassen. \nDu erhältst neben einer spannenden Führung frische Milch und eine Verkostung feinster regionaler Produkte\, wie zum Beispiel Käse unserer Hofmolkerei und Wurst aus eigener Erzeugung. Informiere dich über die moderne Landwirtschaft in Leipzig und unterstütze deinen Bauern vor Ort. \n✔ Exklusive Führung\n✔ Zum Erleben und Anfassen\n✔ Inklusive leckerer Verkostung \nBuche jetzt deine Führung und lass dich von der Vielfalt der Landwirtschaft begeistern!
URL:https://www.hofladenleipzig.de/event/stallfuehrung-mit-verkostung-2/
LOCATION:Hofladen Leipzig\, Raiffeisenstraße 51\, Leipzig\, Sachsen\, 04249\, Deutschland
CATEGORIES:Führungen
ATTACH;FMTTYPE=image/jpeg:https://www.hofladenleipzig.de/wp-content/uploads/stallfuehrungen-bauern-agrarprodukte-kitzen-leipzig-v2.jpg
END:VEVENT
BEGIN:VEVENT
DTSTART;TZID=Europe/Berlin:20230721T120000
DTEND;TZID=Europe/Berlin:20230721T143000
DTSTAMP:20260422T185745
CREATED:20230612T071724Z
LAST-MODIFIED:20230703T133513Z
UID:10001297-1689940800-1689949800@www.hofladenleipzig.de
SUMMARY:Stallführung mit Verkostung
DESCRIPTION:Komm vorbei und schau dir den „Gläsernen Kuhstall“ ganz genau an! Hier bekommst du Landwirtschaft zum selbst Erleben und Anfassen. \nDu erhältst neben einer spannenden Führung frische Milch und eine Verkostung feinster regionaler Produkte\, wie zum Beispiel Käse unserer Hofmolkerei und Wurst aus eigener Erzeugung. Informiere dich über die moderne Landwirtschaft in Leipzig und unterstütze deinen Bauern vor Ort. \n✔ Exklusive Führung\n✔ Zum Erleben und Anfassen\n✔ Inklusive leckerer Verkostung \nBuche jetzt deine Führung und lass dich von der Vielfalt der Landwirtschaft begeistern!
URL:https://www.hofladenleipzig.de/event/stallfuehrung-3/
LOCATION:Hofladen Leipzig\, Raiffeisenstraße 51\, Leipzig\, Sachsen\, 04249\, Deutschland
CATEGORIES:Führungen
ATTACH;FMTTYPE=image/jpeg:https://www.hofladenleipzig.de/wp-content/uploads/stallfuehrungen-bauern-agrarprodukte-kitzen-leipzig-v2.jpg
END:VEVENT
BEGIN:VEVENT
DTSTART;TZID=Europe/Berlin:20230721T090000
DTEND;TZID=Europe/Berlin:20230721T113000
DTSTAMP:20260422T185745
CREATED:20230612T070953Z
LAST-MODIFIED:20230703T133334Z
UID:10001296-1689930000-1689939000@www.hofladenleipzig.de
SUMMARY:Stallführung mit Verkostung
DESCRIPTION:Komm vorbei und schau dir den „Gläsernen Kuhstall“ ganz genau an! Hier bekommst du Landwirtschaft zum selbst Erleben und Anfassen. \nDu erhältst neben einer spannenden Führung frische Milch und eine Verkostung feinster regionaler Produkte\, wie zum Beispiel Käse unserer Hofmolkerei und Wurst aus eigener Erzeugung. Informiere dich über die moderne Landwirtschaft in Leipzig und unterstütze deinen Bauern vor Ort. \n✔ Exklusive Führung\n✔ Zum Erleben und Anfassen\n✔ Inklusive leckerer Verkostung \nBuche jetzt deine Führung und lass dich von der Vielfalt der Landwirtschaft begeistern!
URL:https://www.hofladenleipzig.de/event/stallfuehrung-2/
LOCATION:Hofladen Leipzig\, Raiffeisenstraße 51\, Leipzig\, Sachsen\, 04249\, Deutschland
CATEGORIES:Führungen
ATTACH;FMTTYPE=image/jpeg:https://www.hofladenleipzig.de/wp-content/uploads/stallfuehrungen-bauern-agrarprodukte-kitzen-leipzig-v2.jpg
END:VEVENT
END:VCALENDAR