BEGIN:VCALENDAR
VERSION:2.0
PRODID:-//Hofladen Leipzig Agrarprodukte Kitzen | Regionale Produkte direkt vom Landwirt - ECPv6.10.2//NONSGML v1.0//EN
CALSCALE:GREGORIAN
METHOD:PUBLISH
X-WR-CALNAME:Hofladen Leipzig Agrarprodukte Kitzen | Regionale Produkte direkt vom Landwirt
X-ORIGINAL-URL:https://www.hofladenleipzig.de
X-WR-CALDESC:Veranstaltungen für Hofladen Leipzig Agrarprodukte Kitzen | Regionale Produkte direkt vom Landwirt
REFRESH-INTERVAL;VALUE=DURATION:PT1H
X-Robots-Tag:noindex
X-PUBLISHED-TTL:PT1H
BEGIN:VTIMEZONE
TZID:Europe/Berlin
BEGIN:DAYLIGHT
TZOFFSETFROM:+0100
TZOFFSETTO:+0200
TZNAME:CEST
DTSTART:20240331T010000
END:DAYLIGHT
BEGIN:STANDARD
TZOFFSETFROM:+0200
TZOFFSETTO:+0100
TZNAME:CET
DTSTART:20241027T010000
END:STANDARD
BEGIN:DAYLIGHT
TZOFFSETFROM:+0100
TZOFFSETTO:+0200
TZNAME:CEST
DTSTART:20250330T010000
END:DAYLIGHT
BEGIN:STANDARD
TZOFFSETFROM:+0200
TZOFFSETTO:+0100
TZNAME:CET
DTSTART:20251026T010000
END:STANDARD
END:VTIMEZONE
BEGIN:VEVENT
DTSTART;TZID=Europe/Berlin:20250627T180000
DTEND;TZID=Europe/Berlin:20250627T200000
DTSTAMP:20260422T140522
CREATED:20250415T131608Z
LAST-MODIFIED:20250415T131608Z
UID:10001370-1751047200-1751054400@www.hofladenleipzig.de
SUMMARY:Kochen mit dem Thermomix
DESCRIPTION:Kochen mit dem Thermomix \nDer “Neue” ist da. Also staunt und erlebt\, was er so alles kann. Und dieses Mal zeigen wir euch\, dass auch Männer ihn bedienen können. \nUm Voranmeldung wird gebeten. Eintritt frei!
URL:https://www.hofladenleipzig.de/event/kochen-mit-dem-thermomix/
LOCATION:Hofladen Leipzig\, Raiffeisenstraße 51\, Leipzig\, Sachsen\, 04249\, Deutschland
CATEGORIES:Veranstaltungen
END:VEVENT
BEGIN:VEVENT
DTSTART;TZID=Europe/Berlin:20250618T173000
DTEND;TZID=Europe/Berlin:20250618T190000
DTSTAMP:20260422T140522
CREATED:20250415T130916Z
LAST-MODIFIED:20250415T130916Z
UID:10001367-1750267800-1750273200@www.hofladenleipzig.de
SUMMARY:Buchvorstellung “Die BBG - mein Leben”
DESCRIPTION:Buchvorstellung “Die BBG – mein Leben” \nThomas Vogler gibt Einblicke in seine Erlebnisse in einem Betrieb der gigantischen DDR-Kombinate\, dem VEB Bodenbearbeitungsgeräte (BBG) in Leipzig.\nUm Voranmeldung wird gebeten. \nEintritt frei!
URL:https://www.hofladenleipzig.de/event/buchvorstellung-die-bbg-mein-leben/
LOCATION:Hofladen Leipzig\, Raiffeisenstraße 51\, Leipzig\, Sachsen\, 04249\, Deutschland
CATEGORIES:Veranstaltungen
END:VEVENT
BEGIN:VEVENT
DTSTART;TZID=Europe/Berlin:20250613T150000
DTEND;TZID=Europe/Berlin:20250613T180000
DTSTAMP:20260422T140522
CREATED:20250415T131153Z
LAST-MODIFIED:20250415T131153Z
UID:10001369-1749826800-1749837600@www.hofladenleipzig.de
SUMMARY:Grillnachmittag
DESCRIPTION:Grillnachmittag \nHeute grillen wir für euch vor dem Hofladen Roster vom Schwein\, vom Rind und saftige Steaks.
URL:https://www.hofladenleipzig.de/event/grillnachmittag/
LOCATION:Hofladen Leipzig\, Raiffeisenstraße 51\, Leipzig\, Sachsen\, 04249\, Deutschland
CATEGORIES:Veranstaltungen
END:VEVENT
BEGIN:VEVENT
DTSTART;TZID=Europe/Berlin:20250524T100000
DTEND;TZID=Europe/Berlin:20250524T160000
DTSTAMP:20260422T140522
CREATED:20250415T130249Z
LAST-MODIFIED:20250415T130249Z
UID:10001366-1748080800-1748102400@www.hofladenleipzig.de
SUMMARY:Hoffest zum Tag der Milch 2025
DESCRIPTION:Hoffest zum Tag der Milch \nWir feiern von 10-16 Uhr mit euch den Tag der Milch. Erlebt viele Überraschungen und erfahrt Wissenswertes über unsere Milch und über Tierwohl. Auf einem Bauernmarkt werdet ihr viele regionale Produkte entdecken.
URL:https://www.hofladenleipzig.de/event/hoffest-zum-tag-der-milch-2025/
LOCATION:Hofladen Leipzig\, Raiffeisenstraße 51\, Leipzig\, Sachsen\, 04249\, Deutschland
CATEGORIES:Veranstaltungen
END:VEVENT
BEGIN:VEVENT
DTSTART;TZID=Europe/Berlin:20250517T100000
DTEND;TZID=Europe/Berlin:20250517T160000
DTSTAMP:20260422T140522
CREATED:20250415T130006Z
LAST-MODIFIED:20250415T130006Z
UID:10001365-1747476000-1747497600@www.hofladenleipzig.de
SUMMARY:Flohmarkt am Hofladen
DESCRIPTION:Flohmarkt am Hofladen \nBesucht unseren Flohmarkt auf dem Parkplatz vorm Hofladen oder bereichert ihn mit einem eigenen Stand von 10-16 Uhr.  \nAnmeldungen per Mail an hofladen@agrarprodukte-kitzen.de
URL:https://www.hofladenleipzig.de/event/flohmarkt-am-hofladen-2/
LOCATION:Hofladen Leipzig\, Raiffeisenstraße 51\, Leipzig\, Sachsen\, 04249\, Deutschland
CATEGORIES:Veranstaltungen
END:VEVENT
BEGIN:VEVENT
DTSTART;TZID=Europe/Berlin:20250514T180000
DTEND;TZID=Europe/Berlin:20250514T200000
DTSTAMP:20260422T140522
CREATED:20250415T125724Z
LAST-MODIFIED:20250415T125724Z
UID:10001364-1747245600-1747252800@www.hofladenleipzig.de
SUMMARY:Vitalabend mit Sabine Patula
DESCRIPTION:Vitalabend mit Sabine Patula \nLeicht in den Frühling und Sommer starten. Wie geht das? Sabine informiert euch darüber.\nUm Voranmeldung im Hofladen wird gebeten. Eintritt frei! \n  \n  \n 
URL:https://www.hofladenleipzig.de/event/vitalabend-mit-sabine-patula/
LOCATION:Hofladen Leipzig\, Raiffeisenstraße 51\, Leipzig\, Sachsen\, 04249\, Deutschland
CATEGORIES:Veranstaltungen
END:VEVENT
BEGIN:VEVENT
DTSTART;TZID=Europe/Berlin:20250426T100000
DTEND;TZID=Europe/Berlin:20250426T120000
DTSTAMP:20260422T140522
CREATED:20241220T131210Z
LAST-MODIFIED:20241220T131210Z
UID:10001352-1745661600-1745668800@www.hofladenleipzig.de
SUMMARY:Stallführung mit Verkostung
DESCRIPTION:Komm vorbei und schau dir den „Gläsernen Kuhstall“ ganz genau an! Hier bekommst du Landwirtschaft zum selbst Erleben und Anfassen. \nDu erhältst neben einer spannenden Führung eine Verkostung feinster regionaler Produkte\, wie zum Beispiel Wurst aus eigener Erzeugung und Käse. Informiere dich über die moderne Landwirtschaft in Leipzig und unterstütze deinen Bauern vor Ort. \n✔ Exklusive Führung\n✔ Zum Erleben und Anfassen\n✔ Inklusive leckerer Verkostung \nBuche jetzt deine Führung und lass dich von der Vielfalt der Landwirtschaft begeistern!
URL:https://www.hofladenleipzig.de/event/stallfuehrung-mit-verkostung-20/
LOCATION:Hofladen Leipzig\, Raiffeisenstraße 51\, Leipzig\, Sachsen\, 04249\, Deutschland
CATEGORIES:Führungen
ATTACH;FMTTYPE=image/jpeg:https://www.hofladenleipzig.de/wp-content/uploads/stallfuehrungen-kitzen-leipzig.jpg
END:VEVENT
BEGIN:VEVENT
DTSTART;TZID=Europe/Berlin:20250412T100000
DTEND;TZID=Europe/Berlin:20250412T160000
DTSTAMP:20260422T140522
CREATED:20241220T133417Z
LAST-MODIFIED:20250313T123657Z
UID:10001359-1744452000-1744473600@www.hofladenleipzig.de
SUMMARY:Ostermarkt
DESCRIPTION:Ostermarkt \nBauernmarkt mit regionalen Händlern auf dem Parkplatz vor dem Hofladen. \n  \n  \n  \n  \n 
URL:https://www.hofladenleipzig.de/event/ostermarkt/
LOCATION:Hofladen Leipzig\, Raiffeisenstraße 51\, Leipzig\, Sachsen\, 04249\, Deutschland
CATEGORIES:Veranstaltungen
END:VEVENT
BEGIN:VEVENT
DTSTART;TZID=Europe/Berlin:20250322T100000
DTEND;TZID=Europe/Berlin:20250322T120000
DTSTAMP:20260422T140522
CREATED:20241220T124319Z
LAST-MODIFIED:20241220T124319Z
UID:10001351-1742637600-1742644800@www.hofladenleipzig.de
SUMMARY:Stallführung mit Verkostung
DESCRIPTION:Komm vorbei und schau dir den „Gläsernen Kuhstall“ ganz genau an! Hier bekommst du Landwirtschaft zum selbst Erleben und Anfassen. \nDu erhältst neben einer spannenden Führung eine Verkostung feinster regionaler Produkte\, wie zum Beispiel Wurst aus eigener Erzeugung und Käse. Informiere dich über die moderne Landwirtschaft in Leipzig und unterstütze deinen Bauern vor Ort. \n✔ Exklusive Führung\n✔ Zum Erleben und Anfassen\n✔ Inklusive leckerer Verkostung \nBuche jetzt deine Führung und lass dich von der Vielfalt der Landwirtschaft begeistern!
URL:https://www.hofladenleipzig.de/event/stallfuehrung-mit-verkostung-19/
LOCATION:Hofladen Leipzig\, Raiffeisenstraße 51\, Leipzig\, Sachsen\, 04249\, Deutschland
CATEGORIES:Führungen
ATTACH;FMTTYPE=image/jpeg:https://www.hofladenleipzig.de/wp-content/uploads/stallfuehrungen-kitzen-leipzig.jpg
END:VEVENT
BEGIN:VEVENT
DTSTART;TZID=Europe/Berlin:20250316T153000
DTEND;TZID=Europe/Berlin:20250316T180000
DTSTAMP:20260422T140522
CREATED:20241220T133650Z
LAST-MODIFIED:20241220T133650Z
UID:10001360-1742139000-1742148000@www.hofladenleipzig.de
SUMMARY:„So Sinn mir SAGGSN“ mit Gunter Böhnke
DESCRIPTION:„So Sinn mir SAGGSN“ mit Gunter Böhnke \nBeginn 15:30 Uhr \nKabarettveranstaltung in unserem Veranstaltungsraum „Am Gläsernen Kuhstall“ \nKarten im Hofladen für 25€/Person erhältlich \n 
URL:https://www.hofladenleipzig.de/event/so-sinn-mir-saggsn-mit-gunter-boehnke/
LOCATION:Hofladen Leipzig\, Raiffeisenstraße 51\, Leipzig\, Sachsen\, 04249\, Deutschland
CATEGORIES:Abendveranstaltungen,Veranstaltungen
END:VEVENT
BEGIN:VEVENT
DTSTART;TZID=Europe/Berlin:20250308T150000
DTEND;TZID=Europe/Berlin:20250308T170000
DTSTAMP:20260422T140522
CREATED:20241220T133151Z
LAST-MODIFIED:20241220T133151Z
UID:10001358-1741446000-1741453200@www.hofladenleipzig.de
SUMMARY:Kaffeekränzchen zum Frauentag
DESCRIPTION:Kaffeekränzchen zum Frauentag \nBeginn 15 Uhr – Preis pro Person 10€ \nLasst uns zusammen eine schöne Zeit bei Kaffee\, Kuchen und guter Gesellschaft genießen. Lachen\, plaudern und einfach mal abschalten – bei unserem exklusiven Frauen-Kaffeekränzchen ist alles erlaubt. \nUm Voranmeldung unter hofladen@agrarprodukte-kitzen.de oder direkt im Hofladen wird gebeten. \n  \n  \n  \n 
URL:https://www.hofladenleipzig.de/event/kaffeekraenzchen-zum-frauentag/
LOCATION:Hofladen Leipzig\, Raiffeisenstraße 51\, Leipzig\, Sachsen\, 04249\, Deutschland
CATEGORIES:Veranstaltungen
END:VEVENT
BEGIN:VEVENT
DTSTART;TZID=Europe/Berlin:20250226T173000
DTEND;TZID=Europe/Berlin:20250226T200000
DTSTAMP:20260422T140522
CREATED:20241220T132906Z
LAST-MODIFIED:20250107T073408Z
UID:10001357-1740591000-1740600000@www.hofladenleipzig.de
SUMMARY:Vorführung Thermomix
DESCRIPTION:Vorführung Thermomix \nIhr wolltet schon immer wissen\, was der Thermomix alles kann? Dann seid ihr genau richtig zu dieser Informationsveranstaltung in unserem Hofcafè. \nUm Voranmeldung unter hofladen@agrarprodukte-kitzen.de oder direkt im Hofladen wird gebeten. Eintritt frei. \n  \n 
URL:https://www.hofladenleipzig.de/event/vorfuehrung-thermomix/
LOCATION:Hofladen Leipzig\, Raiffeisenstraße 51\, Leipzig\, Sachsen\, 04249\, Deutschland
CATEGORIES:Veranstaltungen
END:VEVENT
BEGIN:VEVENT
DTSTART;TZID=Europe/Berlin:20250214T180000
DTEND;TZID=Europe/Berlin:20250214T220000
DTSTAMP:20260422T140522
CREATED:20241220T132523Z
LAST-MODIFIED:20241220T132523Z
UID:10001356-1739556000-1739570400@www.hofladenleipzig.de
SUMMARY:Menü für Verliebte
DESCRIPTION:Menü für Verliebte \nWir laden euch 18 Uhr zu einem 3-Gänge-Menü in unser Hofcafè ein. Bitte bestellt rechtzeitig\, die Plätze sind begrenzt. \nPreis pro Person 35€ \nUm Voranmeldung wird gebeten unter hofladen@agrarprodukte-kitzen.de oder persönlich im Hofladen. \n 
URL:https://www.hofladenleipzig.de/event/menue-fuer-verliebte/
LOCATION:Hofladen Leipzig\, Raiffeisenstraße 51\, Leipzig\, Sachsen\, 04249\, Deutschland
CATEGORIES:Veranstaltungen
END:VEVENT
BEGIN:VEVENT
DTSTART;TZID=Europe/Berlin:20250122T180000
DTEND;TZID=Europe/Berlin:20250122T210000
DTSTAMP:20260422T140522
CREATED:20241220T132208Z
LAST-MODIFIED:20241220T132208Z
UID:10001355-1737568800-1737579600@www.hofladenleipzig.de
SUMMARY:Neujahrsputz für Körper\, Geist und Seele
DESCRIPTION:Neujahrsputz für Körper\, Geist und Seele – kostenloser Vitalabend im Hofcafè \nBeginn 18 Uhr \nUm Voranmeldung wird gebeten unter info@sabine-patula.de\, hofladen@agrarprodukte-kitzen.de oder persönlich im Hofladen. \n 
URL:https://www.hofladenleipzig.de/event/neujahrsputz/
LOCATION:Hofladen Leipzig\, Raiffeisenstraße 51\, Leipzig\, Sachsen\, 04249\, Deutschland
CATEGORIES:Veranstaltungen
END:VEVENT
BEGIN:VEVENT
DTSTART;TZID=Europe/Berlin:20241214T100000
DTEND;TZID=Europe/Berlin:20241214T180000
DTSTAMP:20260422T140522
CREATED:20240827T074742Z
LAST-MODIFIED:20241206T064446Z
UID:10001348-1734170400-1734199200@www.hofladenleipzig.de
SUMMARY:Weihnachtsmarkt am Hofladen
DESCRIPTION:Weihnachtsmarkt am Hofladen \nStimmt euch bei Glühwein\, Bratwurst und anderen Leckereien auf das Weihnachtsfest ein. \n 
URL:https://www.hofladenleipzig.de/event/weihnachtsmarkt-am-hofladen-2/
LOCATION:Hofladen Leipzig\, Raiffeisenstraße 51\, Leipzig\, Sachsen\, 04249\, Deutschland
CATEGORIES:Veranstaltungen
END:VEVENT
BEGIN:VEVENT
DTSTART;TZID=Europe/Berlin:20241206T150000
DTEND;TZID=Europe/Berlin:20241206T160000
DTSTAMP:20260422T140522
CREATED:20240827T074626Z
LAST-MODIFIED:20240827T074626Z
UID:10001347-1733497200-1733500800@www.hofladenleipzig.de
SUMMARY:Zeigt her eure Stiefel\, wir füllen eure Schuh
DESCRIPTION:Zeigt her eure Stiefel\, wir füllen eure Schuh \nBringt vom 28.-29.11.eure Schuh zu uns in den Hofladen und holt sie gefüllt mit Leckereien am 06.12. von 15-16 Uhr \nbei uns wieder ab. Unkostenbeitrag 10€.
URL:https://www.hofladenleipzig.de/event/zeigt-her-eure-stiefel-wir-fuellen-eure-schuh-2/
LOCATION:Hofladen Leipzig\, Raiffeisenstraße 51\, Leipzig\, Sachsen\, 04249\, Deutschland
CATEGORIES:Veranstaltungen
END:VEVENT
BEGIN:VEVENT
DTSTART;TZID=Europe/Berlin:20241110T160000
DTEND;TZID=Europe/Berlin:20241110T200000
DTSTAMP:20260422T140522
CREATED:20240827T065607Z
LAST-MODIFIED:20240827T074433Z
UID:10001346-1731254400-1731268800@www.hofladenleipzig.de
SUMMARY:Kabarett mit Moni und Manni
DESCRIPTION:Kabarett mit Moni und Manni \n16 Uhr stratet unsere 2. Veranstaltung mit Manni in unserem Veranstaltungsraum am \nGläsernen Kuhstall. Lasst die Lachmuskeln in Bewegung kommen. \nKarten erhaltet ihr im Hofladen Leipzig.
URL:https://www.hofladenleipzig.de/event/kabarett-mit-moni-und-manni/
LOCATION:Hofladen Leipzig\, Raiffeisenstraße 51\, Leipzig\, Sachsen\, 04249\, Deutschland
CATEGORIES:Veranstaltungen
END:VEVENT
BEGIN:VEVENT
DTSTART;TZID=Europe/Berlin:20241030T160000
DTEND;TZID=Europe/Berlin:20241030T180000
DTSTAMP:20260422T140522
CREATED:20240827T065423Z
LAST-MODIFIED:20240827T065423Z
UID:10001345-1730304000-1730311200@www.hofladenleipzig.de
SUMMARY:Halloween
DESCRIPTION:Halloween \nWir möchten mit euch von 16-18 Uhr zum 2. Mal Halloween feiern. Besucht uns mit oder ohne Kostüm. \nWir werden für heuße Getränke und einen kleinen Imbiss sorgen. \nMacht wieder mit bei unserem Wettbewerb. Bringt eure geschnitzten Kürbisse mit und stellt sie vor \nDem Hofladen auf. Den Originellsten prämieren wir. \nAn diesem Tag wird der Hofladen von 13-18 Uhr geöffnet sein.
URL:https://www.hofladenleipzig.de/event/halloween/
LOCATION:Hofladen Leipzig\, Raiffeisenstraße 51\, Leipzig\, Sachsen\, 04249\, Deutschland
CATEGORIES:Veranstaltungen
END:VEVENT
BEGIN:VEVENT
DTSTART;TZID=Europe/Berlin:20241026T100000
DTEND;TZID=Europe/Berlin:20241026T120000
DTSTAMP:20260422T140522
CREATED:20240827T063224Z
LAST-MODIFIED:20240904T095851Z
UID:10001342-1729936800-1729944000@www.hofladenleipzig.de
SUMMARY:Stallführung mit Verkostung
DESCRIPTION:Komm vorbei und schau dir den „Gläsernen Kuhstall“ ganz genau an! Hier bekommst du Landwirtschaft zum selbst Erleben und Anfassen. \nDu erhältst neben einer spannenden Führung eine Verkostung feinster regionaler Produkte\, wie zum Beispiel Wurst aus eigener Erzeugung und Käse. Informiere dich über die moderne Landwirtschaft in Leipzig und unterstütze deinen Bauern vor Ort. \n✔ Exklusive Führung\n✔ Zum Erleben und Anfassen\n✔ Inklusive leckerer Verkostung \nBuche jetzt deine Führung und lass dich von der Vielfalt der Landwirtschaft begeistern!
URL:https://www.hofladenleipzig.de/event/stallfuehrung-mit-verkostung-18/
LOCATION:Hofladen Leipzig\, Raiffeisenstraße 51\, Leipzig\, Sachsen\, 04249\, Deutschland
CATEGORIES:Führungen
ATTACH;FMTTYPE=image/jpeg:https://www.hofladenleipzig.de/wp-content/uploads/stallfuehrungen-kitzen-leipzig.jpg
END:VEVENT
BEGIN:VEVENT
DTSTART;TZID=Europe/Berlin:20240921T100000
DTEND;TZID=Europe/Berlin:20240921T120000
DTSTAMP:20260422T140522
CREATED:20240422T061430Z
LAST-MODIFIED:20240904T105321Z
UID:10001335-1726912800-1726920000@www.hofladenleipzig.de
SUMMARY:Stallführung mit Verkostung
DESCRIPTION:Komm vorbei und schau dir den „Gläsernen Kuhstall“ ganz genau an! Hier bekommst du Landwirtschaft zum selbst Erleben und Anfassen. \nDu erhältst neben einer spannenden Führung eine Verkostung feinster regionaler Produkte\, wie zum Beispiel Wurst aus eigener Erzeugung und Käse. Informiere dich über die moderne Landwirtschaft in Leipzig und unterstütze deinen Bauern vor Ort. \n✔ Exklusive Führung\n✔ Zum Erleben und Anfassen\n✔ Inklusive leckerer Verkostung \nBuche jetzt deine Führung und lass dich von der Vielfalt der Landwirtschaft begeistern!
URL:https://www.hofladenleipzig.de/event/stallfuehrung-mit-verkostung-17/
LOCATION:Hofladen Leipzig\, Raiffeisenstraße 51\, Leipzig\, Sachsen\, 04249\, Deutschland
CATEGORIES:Führungen
ATTACH;FMTTYPE=image/jpeg:https://www.hofladenleipzig.de/wp-content/uploads/stallfuehrungen-kitzen-leipzig.jpg
END:VEVENT
BEGIN:VEVENT
DTSTART;VALUE=DATE:20240912
DTEND;VALUE=DATE:20240913
DTSTAMP:20260422T140522
CREATED:20240827T063619Z
LAST-MODIFIED:20240827T063619Z
UID:10001343-1726099200-1726185599@www.hofladenleipzig.de
SUMMARY:Iss doch Wurscht
DESCRIPTION:Iss doch Wurscht \nHeute erhaltet ihr für 10€ eine Probier-Tüte von unseren Wurstsorten. Lasst es euch schmecken!
URL:https://www.hofladenleipzig.de/event/iss-doch-wurscht/
LOCATION:Hofladen Leipzig\, Raiffeisenstraße 51\, Leipzig\, Sachsen\, 04249\, Deutschland
CATEGORIES:Veranstaltungen
END:VEVENT
BEGIN:VEVENT
DTSTART;TZID=Europe/Berlin:20240824T100000
DTEND;TZID=Europe/Berlin:20240824T140000
DTSTAMP:20260422T140522
CREATED:20240508T091847Z
LAST-MODIFIED:20240508T091847Z
UID:10001341-1724493600-1724508000@www.hofladenleipzig.de
SUMMARY:Flohmarkt am Hofladen
DESCRIPTION:Flohmarkt am Hofladen \nBesucht unseren 1. Flohmarkt oder bereichert ihn mit einem eigenen Stand von 10-14 Uhr. \nAnmeldungen per Mail an hofladen@agrarprodukte-kitzen.de \nStandgebühr: 10€
URL:https://www.hofladenleipzig.de/event/flohmarkt-am-hofladen/
LOCATION:Hofladen Leipzig\, Raiffeisenstraße 51\, Leipzig\, Sachsen\, 04249\, Deutschland
CATEGORIES:Veranstaltungen
END:VEVENT
BEGIN:VEVENT
DTSTART;TZID=Europe/Berlin:20240803T100000
DTEND;TZID=Europe/Berlin:20240803T120000
DTSTAMP:20260422T140522
CREATED:20240422T061317Z
LAST-MODIFIED:20240625T072909Z
UID:10001334-1722679200-1722686400@www.hofladenleipzig.de
SUMMARY:Stallführung mit Verkostung
DESCRIPTION:Komm vorbei und schau dir den „Gläsernen Kuhstall“ ganz genau an! Hier bekommst du Landwirtschaft zum selbst Erleben und Anfassen. \nDu erhältst neben einer spannenden Führung eine Verkostung feinster regionaler Produkte\, wie zum Beispiel Wurst aus eigener Erzeugung und Käse. Informiere dich über die moderne Landwirtschaft in Leipzig und unterstütze deinen Bauern vor Ort. \n✔ Exklusive Führung\n✔ Zum Erleben und Anfassen\n✔ Inklusive leckerer Verkostung \nBuche jetzt deine Führung und lass dich von der Vielfalt der Landwirtschaft begeistern!
URL:https://www.hofladenleipzig.de/event/stallfuehrung-mit-verkostung-16/
LOCATION:Hofladen Leipzig\, Raiffeisenstraße 51\, Leipzig\, Sachsen\, 04249\, Deutschland
CATEGORIES:Führungen
ATTACH;FMTTYPE=image/jpeg:https://www.hofladenleipzig.de/wp-content/uploads/stallfuehrungen-kitzen-leipzig.jpg
END:VEVENT
BEGIN:VEVENT
DTSTART;TZID=Europe/Berlin:20240713T100000
DTEND;TZID=Europe/Berlin:20240713T120000
DTSTAMP:20260422T140522
CREATED:20240422T060844Z
LAST-MODIFIED:20240625T073047Z
UID:10001333-1720864800-1720872000@www.hofladenleipzig.de
SUMMARY:Stallführung mit Verkostung
DESCRIPTION:Komm vorbei und schau dir den „Gläsernen Kuhstall“ ganz genau an! Hier bekommst du Landwirtschaft zum selbst Erleben und Anfassen. \nDu erhältst neben einer spannenden Führung eine Verkostung feinster regionaler Produkte\, wie zum Beispiel Wurst aus eigener Erzeugung und Käse. Informiere dich über die moderne Landwirtschaft in Leipzig und unterstütze deinen Bauern vor Ort. \n✔ Exklusive Führung\n✔ Zum Erleben und Anfassen\n✔ Inklusive leckerer Verkostung \nBuche jetzt deine Führung und lass dich von der Vielfalt der Landwirtschaft begeistern!
URL:https://www.hofladenleipzig.de/event/stallfuehrung-mit-verkostung-15/
LOCATION:Hofladen Leipzig\, Raiffeisenstraße 51\, Leipzig\, Sachsen\, 04249\, Deutschland
CATEGORIES:Führungen
ATTACH;FMTTYPE=image/jpeg:https://www.hofladenleipzig.de/wp-content/uploads/stallfuehrungen-kitzen-leipzig.jpg
END:VEVENT
BEGIN:VEVENT
DTSTART;TZID=Europe/Berlin:20240615T100000
DTEND;TZID=Europe/Berlin:20240615T120000
DTSTAMP:20260422T140522
CREATED:20240422T060702Z
LAST-MODIFIED:20240422T060702Z
UID:10001332-1718445600-1718452800@www.hofladenleipzig.de
SUMMARY:Stallführung mit Verkostung
DESCRIPTION:Komm vorbei und schau dir den „Gläsernen Kuhstall“ ganz genau an! Hier bekommst du Landwirtschaft zum selbst Erleben und Anfassen. \nDu erhältst neben einer spannenden Führung eine Verkostung feinster regionaler Produkte\, wie zum Beispiel Wurst aus eigener Erzeugung und Käse. Informiere dich über die moderne Landwirtschaft in Leipzig und unterstütze deinen Bauern vor Ort. \n✔ Exklusive Führung\n✔ Zum Erleben und Anfassen\n✔ Inklusive leckerer Verkostung \nBuche jetzt deine Führung und lass dich von der Vielfalt der Landwirtschaft begeistern!
URL:https://www.hofladenleipzig.de/event/stallfuehrung-mit-verkostung-14/
LOCATION:Hofladen Leipzig\, Raiffeisenstraße 51\, Leipzig\, Sachsen\, 04249\, Deutschland
CATEGORIES:Führungen
ATTACH;FMTTYPE=image/jpeg:https://www.hofladenleipzig.de/wp-content/uploads/stallfuehrungen-kitzen-leipzig.jpg
END:VEVENT
BEGIN:VEVENT
DTSTART;TZID=Europe/Berlin:20240601T100000
DTEND;TZID=Europe/Berlin:20240601T160000
DTSTAMP:20260422T140522
CREATED:20240508T091120Z
LAST-MODIFIED:20240508T091120Z
UID:10001338-1717236000-1717257600@www.hofladenleipzig.de
SUMMARY:Hoffest zum Tag der Milch 2024
DESCRIPTION:Hoffest zum Tag der Milch \nWir feiern von 10-16 Uhr mit euch den Tag der Milch. Erlebt viele Überraschungen und erfahrt Wissenswertes über unsere Milch und über Tierwohl.
URL:https://www.hofladenleipzig.de/event/hoffest-zum-tag-der-milch-2024/
LOCATION:Hofladen Leipzig\, Raiffeisenstraße 51\, Leipzig\, Sachsen\, 04249\, Deutschland
CATEGORIES:Veranstaltungen
END:VEVENT
BEGIN:VEVENT
DTSTART;VALUE=DATE:20240601
DTEND;VALUE=DATE:20240701
DTSTAMP:20260422T140522
CREATED:20240508T091425Z
LAST-MODIFIED:20240508T091425Z
UID:10001339-1717200000-1719791999@www.hofladenleipzig.de
SUMMARY:Erdbeerzeit
DESCRIPTION:Erdbeerzeit \nLasst euch einen leckeren Milchshake mit frischen Erdbeeren schmecken.
URL:https://www.hofladenleipzig.de/event/erdbeerzeit/
LOCATION:Hofladen Leipzig\, Raiffeisenstraße 51\, Leipzig\, Sachsen\, 04249\, Deutschland
CATEGORIES:Veranstaltungen
END:VEVENT
BEGIN:VEVENT
DTSTART;TZID=Europe/Berlin:20240511T100000
DTEND;TZID=Europe/Berlin:20240511T120000
DTSTAMP:20260422T140522
CREATED:20240108T132222Z
LAST-MODIFIED:20240422T063309Z
UID:10001324-1715421600-1715428800@www.hofladenleipzig.de
SUMMARY:Stallführung mit Verkostung
DESCRIPTION:Komm vorbei und schau dir den „Gläsernen Kuhstall“ ganz genau an! Hier bekommst du Landwirtschaft zum selbst Erleben und Anfassen. \nDu erhältst neben einer spannenden Führung eine Verkostung feinster regionaler Produkte\, wie zum Beispiel Wurst aus eigener Erzeugung und Käse. Informiere dich über die moderne Landwirtschaft in Leipzig und unterstütze deinen Bauern vor Ort. \n✔ Exklusive Führung\n✔ Zum Erleben und Anfassen\n✔ Inklusive leckerer Verkostung \nBuche jetzt deine Führung und lass dich von der Vielfalt der Landwirtschaft begeistern!
URL:https://www.hofladenleipzig.de/event/stallfuehrung-mit-verkostung-12/
LOCATION:Hofladen Leipzig\, Raiffeisenstraße 51\, Leipzig\, Sachsen\, 04249\, Deutschland
CATEGORIES:Führungen
ATTACH;FMTTYPE=image/jpeg:https://www.hofladenleipzig.de/wp-content/uploads/stallfuehrungen-kitzen-leipzig.jpg
END:VEVENT
BEGIN:VEVENT
DTSTART;VALUE=DATE:20240501
DTEND;VALUE=DATE:20240512
DTSTAMP:20260422T140522
CREATED:20240508T065015Z
LAST-MODIFIED:20240508T091259Z
UID:10001337-1714521600-1715471999@www.hofladenleipzig.de
SUMMARY:Muttertag
DESCRIPTION:Bestellt bis Montag\, den 06.05. eine Kitzener Bademilch für eure Mama und holt sie am 11.05. im Hofladen ab. Dann habt ihr ein besonderes Geschenk.
URL:https://www.hofladenleipzig.de/event/muttertag/
LOCATION:Hofladen Leipzig\, Raiffeisenstraße 51\, Leipzig\, Sachsen\, 04249\, Deutschland
CATEGORIES:Veranstaltungen
END:VEVENT
BEGIN:VEVENT
DTSTART;TZID=Europe/Berlin:20240419T160000
DTEND;TZID=Europe/Berlin:20240419T180000
DTSTAMP:20260422T140522
CREATED:20231221T074454Z
LAST-MODIFIED:20231221T074454Z
UID:10001321-1713542400-1713549600@www.hofladenleipzig.de
SUMMARY:Start für den Grill
DESCRIPTION:Heute grillen wir von 16-18 Uhr vor dem Hofladen mit euch an.
URL:https://www.hofladenleipzig.de/event/start-fuer-den-grill/
LOCATION:Hofladen Leipzig\, Raiffeisenstraße 51\, Leipzig\, Sachsen\, 04249\, Deutschland
CATEGORIES:Abendveranstaltungen,Veranstaltungen
END:VEVENT
END:VCALENDAR