BEGIN:VCALENDAR
VERSION:2.0
PRODID:-//Hofladen Leipzig Agrarprodukte Kitzen | Regionale Produkte direkt vom Landwirt - ECPv6.10.2//NONSGML v1.0//EN
CALSCALE:GREGORIAN
METHOD:PUBLISH
X-WR-CALNAME:Hofladen Leipzig Agrarprodukte Kitzen | Regionale Produkte direkt vom Landwirt
X-ORIGINAL-URL:https://www.hofladenleipzig.de
X-WR-CALDESC:Veranstaltungen für Hofladen Leipzig Agrarprodukte Kitzen | Regionale Produkte direkt vom Landwirt
REFRESH-INTERVAL;VALUE=DURATION:PT1H
X-Robots-Tag:noindex
X-PUBLISHED-TTL:PT1H
BEGIN:VTIMEZONE
TZID:Europe/Berlin
BEGIN:DAYLIGHT
TZOFFSETFROM:+0100
TZOFFSETTO:+0200
TZNAME:CEST
DTSTART:20250330T010000
END:DAYLIGHT
BEGIN:STANDARD
TZOFFSETFROM:+0200
TZOFFSETTO:+0100
TZNAME:CET
DTSTART:20251026T010000
END:STANDARD
END:VTIMEZONE
BEGIN:VEVENT
DTSTART;TZID=Europe/Berlin:20251115T100000
DTEND;TZID=Europe/Berlin:20251115T120000
DTSTAMP:20260422T153040
CREATED:20250731T091336Z
LAST-MODIFIED:20250731T091336Z
UID:10001379-1763200800-1763208000@www.hofladenleipzig.de
SUMMARY:Stallführung mit Verkostung
DESCRIPTION:Komm vorbei und schau dir den „Gläsernen Kuhstall“ ganz genau an! Hier bekommst du Landwirtschaft zum selbst Erleben und Anfassen. \nDu erhältst neben einer spannenden Führung eine Verkostung feinster regionaler Produkte\, wie zum Beispiel Wurst aus eigener Erzeugung und Käse. Informiere dich über die moderne Landwirtschaft in Leipzig und unterstütze deinen Bauern vor Ort. \n!Wichtig! festes Schuhwerk zur Führung mitbringen \n✔ Exklusive Führung\n✔ Zum Erleben und Anfassen\n✔ Inklusive leckerer Verkostung \nBuche jetzt deine Führung und lass dich von der Vielfalt der Landwirtschaft begeistern!
URL:https://www.hofladenleipzig.de/event/stallfuehrung-mit-verkostung-26/
LOCATION:Hofladen Leipzig\, Raiffeisenstraße 51\, Leipzig\, Sachsen\, 04249\, Deutschland
CATEGORIES:Führungen
ATTACH;FMTTYPE=image/jpeg:https://www.hofladenleipzig.de/wp-content/uploads/stallfuehrungen-kitzen-leipzig.jpg
END:VEVENT
BEGIN:VEVENT
DTSTART;TZID=Europe/Berlin:20251129T160000
DTEND;TZID=Europe/Berlin:20251129T170000
DTSTAMP:20260422T153040
CREATED:20251006T105856Z
LAST-MODIFIED:20251006T105856Z
UID:10001386-1764432000-1764435600@www.hofladenleipzig.de
SUMMARY:Weihnachtsliedersingen
DESCRIPTION:Wir möchten die Vorweihnachtszeit einläuten und mit euch in unserem Hofladen Café an einem weihnachtlich geschmücktem Tisch singen. \nDie Liedertexte bekommt ihr von uns\, falls die ein oder andere Strophe nicht mehr so gut in Erinnerung ist. \nDazu gibt es Kaffee\, Stolle und Gebäck. \nEin Unkostenbeitrag von 15 € ist bei Reservierung zu entrichten. Plätze sind begrenzt. Schnell sein lohnt sich. \n  \n  \n  \n  \n 
URL:https://www.hofladenleipzig.de/event/weihnachtsliedersingen/
LOCATION:Hofladen Leipzig\, Raiffeisenstraße 51\, Leipzig\, Sachsen\, 04249\, Deutschland
CATEGORIES:Veranstaltungen
END:VEVENT
END:VCALENDAR