BEGIN:VCALENDAR
VERSION:2.0
PRODID:-//Hofladen Leipzig Agrarprodukte Kitzen | Regionale Produkte direkt vom Landwirt - ECPv6.10.2//NONSGML v1.0//EN
CALSCALE:GREGORIAN
METHOD:PUBLISH
X-ORIGINAL-URL:https://www.hofladenleipzig.de
X-WR-CALDESC:Veranstaltungen für Hofladen Leipzig Agrarprodukte Kitzen | Regionale Produkte direkt vom Landwirt
REFRESH-INTERVAL;VALUE=DURATION:PT1H
X-Robots-Tag:noindex
X-PUBLISHED-TTL:PT1H
BEGIN:VTIMEZONE
TZID:Europe/Berlin
BEGIN:DAYLIGHT
TZOFFSETFROM:+0100
TZOFFSETTO:+0200
TZNAME:CEST
DTSTART:20250330T010000
END:DAYLIGHT
BEGIN:STANDARD
TZOFFSETFROM:+0200
TZOFFSETTO:+0100
TZNAME:CET
DTSTART:20251026T010000
END:STANDARD
END:VTIMEZONE
BEGIN:VEVENT
DTSTART;TZID=Europe/Berlin:20250809T100000
DTEND;TZID=Europe/Berlin:20250809T120000
DTSTAMP:20260422T201218
CREATED:20250430T130201Z
LAST-MODIFIED:20250430T130201Z
UID:10001375-1754733600-1754740800@www.hofladenleipzig.de
SUMMARY:Stallführung mit Verkostung
DESCRIPTION:Komm vorbei und schau dir den „Gläsernen Kuhstall“ ganz genau an! Hier bekommst du Landwirtschaft zum selbst Erleben und Anfassen. \nDu erhältst neben einer spannenden Führung eine Verkostung feinster regionaler Produkte\, wie zum Beispiel Wurst aus eigener Erzeugung und Käse. Informiere dich über die moderne Landwirtschaft in Leipzig und unterstütze deinen Bauern vor Ort. \n✔ Exklusive Führung\n✔ Zum Erleben und Anfassen\n✔ Inklusive leckerer Verkostung \nBuche jetzt deine Führung und lass dich von der Vielfalt der Landwirtschaft begeistern!
URL:https://www.hofladenleipzig.de/event/stallfuehrung-mit-verkostung-21/
LOCATION:Hofladen Leipzig\, Raiffeisenstraße 51\, Leipzig\, Sachsen\, 04249\, Deutschland
CATEGORIES:Führungen
ATTACH;FMTTYPE=image/jpeg:https://www.hofladenleipzig.de/wp-content/uploads/stallfuehrungen-kitzen-leipzig.jpg
END:VEVENT
BEGIN:VEVENT
DTSTART;TZID=Europe/Berlin:20250823T100000
DTEND;TZID=Europe/Berlin:20250823T160000
DTSTAMP:20260422T201218
CREATED:20250415T133643Z
LAST-MODIFIED:20250415T133643Z
UID:10001372-1755943200-1755964800@www.hofladenleipzig.de
SUMMARY:Flohmarkt am Hofladen
DESCRIPTION:Flohmarkt am Hofladen \nBesucht unseren Flohmarkt auf dem Parkplatz vorm Hofladen oder bereichert ihn mit einem eigenen Stand von 10-16 Uhr.  \nAnmeldungen per Mail an hofladen@agrarprodukte-kitzen.de
URL:https://www.hofladenleipzig.de/event/flohmarkt-am-hofladen-3/
LOCATION:Hofladen Leipzig\, Raiffeisenstraße 51\, Leipzig\, Sachsen\, 04249\, Deutschland
CATEGORIES:Veranstaltungen
END:VEVENT
BEGIN:VEVENT
DTSTART;TZID=Europe/Berlin:20250829T180000
DTEND;TZID=Europe/Berlin:20250829T200000
DTSTAMP:20260422T201218
CREATED:20250415T133916Z
LAST-MODIFIED:20250415T133916Z
UID:10001373-1756490400-1756497600@www.hofladenleipzig.de
SUMMARY:Kabarett mit den “Spottvögeln”
DESCRIPTION:Kabarett mit den “Spottvögeln” \nDie junggebliebenen Kabarett-Oldies aus Leipzig\, getarnt als Lachmöwen und Spottdrosseln\, bieten euch eine hilfreiche Lach-Therapie an. \nKarten im Hofladen für 18€ erhältlich.
URL:https://www.hofladenleipzig.de/event/kabarett-mit-den-spottvoegeln/
LOCATION:Hofladen Leipzig\, Raiffeisenstraße 51\, Leipzig\, Sachsen\, 04249\, Deutschland
CATEGORIES:Abendveranstaltungen,Veranstaltungen
END:VEVENT
END:VCALENDAR