BEGIN:VCALENDAR
VERSION:2.0
PRODID:-//Hofladen Leipzig Agrarprodukte Kitzen | Regionale Produkte direkt vom Landwirt - ECPv6.10.2//NONSGML v1.0//EN
CALSCALE:GREGORIAN
METHOD:PUBLISH
X-WR-CALNAME:Hofladen Leipzig Agrarprodukte Kitzen | Regionale Produkte direkt vom Landwirt
X-ORIGINAL-URL:https://www.hofladenleipzig.de
X-WR-CALDESC:Veranstaltungen für Hofladen Leipzig Agrarprodukte Kitzen | Regionale Produkte direkt vom Landwirt
REFRESH-INTERVAL;VALUE=DURATION:PT1H
X-Robots-Tag:noindex
X-PUBLISHED-TTL:PT1H
BEGIN:VTIMEZONE
TZID:Europe/Berlin
BEGIN:DAYLIGHT
TZOFFSETFROM:+0100
TZOFFSETTO:+0200
TZNAME:CEST
DTSTART:20250330T010000
END:DAYLIGHT
BEGIN:STANDARD
TZOFFSETFROM:+0200
TZOFFSETTO:+0100
TZNAME:CET
DTSTART:20251026T010000
END:STANDARD
END:VTIMEZONE
BEGIN:VEVENT
DTSTART;TZID=Europe/Berlin:20250712T100000
DTEND;TZID=Europe/Berlin:20250712T120000
DTSTAMP:20260422T214024
CREATED:20250430T125948Z
LAST-MODIFIED:20250430T125948Z
UID:10001374-1752314400-1752321600@www.hofladenleipzig.de
SUMMARY:Stallführung mit Verkostung
DESCRIPTION:Komm vorbei und schau dir den „Gläsernen Kuhstall“ ganz genau an! Hier bekommst du Landwirtschaft zum selbst Erleben und Anfassen. \nDu erhältst neben einer spannenden Führung eine Verkostung feinster regionaler Produkte\, wie zum Beispiel Wurst aus eigener Erzeugung und Käse. Informiere dich über die moderne Landwirtschaft in Leipzig und unterstütze deinen Bauern vor Ort. \n✔ Exklusive Führung\n✔ Zum Erleben und Anfassen\n✔ Inklusive leckerer Verkostung \nBuche jetzt deine Führung und lass dich von der Vielfalt der Landwirtschaft begeistern!
URL:https://www.hofladenleipzig.de/event/stallfuehrung-mit-verkostung-10/
LOCATION:Hofladen Leipzig\, Raiffeisenstraße 51\, Leipzig\, Sachsen\, 04249\, Deutschland
CATEGORIES:Führungen
ATTACH;FMTTYPE=image/jpeg:https://www.hofladenleipzig.de/wp-content/uploads/stallfuehrungen-kitzen-leipzig.jpg
END:VEVENT
BEGIN:VEVENT
DTSTART;TZID=Europe/Berlin:20250718T180000
DTEND;TZID=Europe/Berlin:20250718T220000
DTSTAMP:20260422T214024
CREATED:20250415T131815Z
LAST-MODIFIED:20250415T133547Z
UID:10001371-1752861600-1752876000@www.hofladenleipzig.de
SUMMARY:Weinabend
DESCRIPTION:Weinabend \nEin Sommerabend auf der Terrasse vor dem Hofladen\, auf Wunsch ein Glas Wein und eine kleine Wurst-/Käseplatte dazu. Was kann es Genussvolleres geben? \nUm Voranmeldung wird gebeten\, da die Plätze begrenzt sind.
URL:https://www.hofladenleipzig.de/event/weinabend/
LOCATION:Hofladen Leipzig\, Raiffeisenstraße 51\, Leipzig\, Sachsen\, 04249\, Deutschland
CATEGORIES:Veranstaltungen
END:VEVENT
END:VCALENDAR