BEGIN:VCALENDAR
VERSION:2.0
PRODID:-//Hofladen Leipzig Agrarprodukte Kitzen | Regionale Produkte direkt vom Landwirt - ECPv6.10.2//NONSGML v1.0//EN
CALSCALE:GREGORIAN
METHOD:PUBLISH
X-ORIGINAL-URL:https://www.hofladenleipzig.de
X-WR-CALDESC:Veranstaltungen für Hofladen Leipzig Agrarprodukte Kitzen | Regionale Produkte direkt vom Landwirt
REFRESH-INTERVAL;VALUE=DURATION:PT1H
X-Robots-Tag:noindex
X-PUBLISHED-TTL:PT1H
BEGIN:VTIMEZONE
TZID:Europe/Berlin
BEGIN:DAYLIGHT
TZOFFSETFROM:+0100
TZOFFSETTO:+0200
TZNAME:CEST
DTSTART:20250330T010000
END:DAYLIGHT
BEGIN:STANDARD
TZOFFSETFROM:+0200
TZOFFSETTO:+0100
TZNAME:CET
DTSTART:20251026T010000
END:STANDARD
END:VTIMEZONE
BEGIN:VEVENT
DTSTART;TZID=Europe/Berlin:20250514T180000
DTEND;TZID=Europe/Berlin:20250514T200000
DTSTAMP:20260423T003528
CREATED:20250415T125724Z
LAST-MODIFIED:20250415T125724Z
UID:10001364-1747245600-1747252800@www.hofladenleipzig.de
SUMMARY:Vitalabend mit Sabine Patula
DESCRIPTION:Vitalabend mit Sabine Patula \nLeicht in den Frühling und Sommer starten. Wie geht das? Sabine informiert euch darüber.\nUm Voranmeldung im Hofladen wird gebeten. Eintritt frei! \n  \n  \n 
URL:https://www.hofladenleipzig.de/event/vitalabend-mit-sabine-patula/
LOCATION:Hofladen Leipzig\, Raiffeisenstraße 51\, Leipzig\, Sachsen\, 04249\, Deutschland
CATEGORIES:Veranstaltungen
END:VEVENT
BEGIN:VEVENT
DTSTART;TZID=Europe/Berlin:20250517T100000
DTEND;TZID=Europe/Berlin:20250517T160000
DTSTAMP:20260423T003528
CREATED:20250415T130006Z
LAST-MODIFIED:20250415T130006Z
UID:10001365-1747476000-1747497600@www.hofladenleipzig.de
SUMMARY:Flohmarkt am Hofladen
DESCRIPTION:Flohmarkt am Hofladen \nBesucht unseren Flohmarkt auf dem Parkplatz vorm Hofladen oder bereichert ihn mit einem eigenen Stand von 10-16 Uhr.  \nAnmeldungen per Mail an hofladen@agrarprodukte-kitzen.de
URL:https://www.hofladenleipzig.de/event/flohmarkt-am-hofladen-2/
LOCATION:Hofladen Leipzig\, Raiffeisenstraße 51\, Leipzig\, Sachsen\, 04249\, Deutschland
CATEGORIES:Veranstaltungen
END:VEVENT
BEGIN:VEVENT
DTSTART;TZID=Europe/Berlin:20250524T100000
DTEND;TZID=Europe/Berlin:20250524T160000
DTSTAMP:20260423T003528
CREATED:20250415T130249Z
LAST-MODIFIED:20250415T130249Z
UID:10001366-1748080800-1748102400@www.hofladenleipzig.de
SUMMARY:Hoffest zum Tag der Milch 2025
DESCRIPTION:Hoffest zum Tag der Milch \nWir feiern von 10-16 Uhr mit euch den Tag der Milch. Erlebt viele Überraschungen und erfahrt Wissenswertes über unsere Milch und über Tierwohl. Auf einem Bauernmarkt werdet ihr viele regionale Produkte entdecken.
URL:https://www.hofladenleipzig.de/event/hoffest-zum-tag-der-milch-2025/
LOCATION:Hofladen Leipzig\, Raiffeisenstraße 51\, Leipzig\, Sachsen\, 04249\, Deutschland
CATEGORIES:Veranstaltungen
END:VEVENT
END:VCALENDAR