BEGIN:VCALENDAR
VERSION:2.0
PRODID:-//Hofladen Leipzig Agrarprodukte Kitzen | Regionale Produkte direkt vom Landwirt - ECPv6.10.2//NONSGML v1.0//EN
CALSCALE:GREGORIAN
METHOD:PUBLISH
X-WR-CALNAME:Hofladen Leipzig Agrarprodukte Kitzen | Regionale Produkte direkt vom Landwirt
X-ORIGINAL-URL:https://www.hofladenleipzig.de
X-WR-CALDESC:Veranstaltungen für Hofladen Leipzig Agrarprodukte Kitzen | Regionale Produkte direkt vom Landwirt
REFRESH-INTERVAL;VALUE=DURATION:PT1H
X-Robots-Tag:noindex
X-PUBLISHED-TTL:PT1H
BEGIN:VTIMEZONE
TZID:Europe/Berlin
BEGIN:DAYLIGHT
TZOFFSETFROM:+0100
TZOFFSETTO:+0200
TZNAME:CEST
DTSTART:20250330T010000
END:DAYLIGHT
BEGIN:STANDARD
TZOFFSETFROM:+0200
TZOFFSETTO:+0100
TZNAME:CET
DTSTART:20251026T010000
END:STANDARD
END:VTIMEZONE
BEGIN:VEVENT
DTSTART;TZID=Europe/Berlin:20250308T150000
DTEND;TZID=Europe/Berlin:20250308T170000
DTSTAMP:20260424T134810
CREATED:20241220T133151Z
LAST-MODIFIED:20241220T133151Z
UID:10001358-1741446000-1741453200@www.hofladenleipzig.de
SUMMARY:Kaffeekränzchen zum Frauentag
DESCRIPTION:Kaffeekränzchen zum Frauentag \nBeginn 15 Uhr – Preis pro Person 10€ \nLasst uns zusammen eine schöne Zeit bei Kaffee\, Kuchen und guter Gesellschaft genießen. Lachen\, plaudern und einfach mal abschalten – bei unserem exklusiven Frauen-Kaffeekränzchen ist alles erlaubt. \nUm Voranmeldung unter hofladen@agrarprodukte-kitzen.de oder direkt im Hofladen wird gebeten. \n  \n  \n  \n 
URL:https://www.hofladenleipzig.de/event/kaffeekraenzchen-zum-frauentag/
LOCATION:Hofladen Leipzig\, Raiffeisenstraße 51\, Leipzig\, Sachsen\, 04249\, Deutschland
CATEGORIES:Veranstaltungen
END:VEVENT
BEGIN:VEVENT
DTSTART;TZID=Europe/Berlin:20250316T153000
DTEND;TZID=Europe/Berlin:20250316T180000
DTSTAMP:20260424T134810
CREATED:20241220T133650Z
LAST-MODIFIED:20241220T133650Z
UID:10001360-1742139000-1742148000@www.hofladenleipzig.de
SUMMARY:„So Sinn mir SAGGSN“ mit Gunter Böhnke
DESCRIPTION:„So Sinn mir SAGGSN“ mit Gunter Böhnke \nBeginn 15:30 Uhr \nKabarettveranstaltung in unserem Veranstaltungsraum „Am Gläsernen Kuhstall“ \nKarten im Hofladen für 25€/Person erhältlich \n 
URL:https://www.hofladenleipzig.de/event/so-sinn-mir-saggsn-mit-gunter-boehnke/
LOCATION:Hofladen Leipzig\, Raiffeisenstraße 51\, Leipzig\, Sachsen\, 04249\, Deutschland
CATEGORIES:Abendveranstaltungen,Veranstaltungen
END:VEVENT
BEGIN:VEVENT
DTSTART;TZID=Europe/Berlin:20250322T100000
DTEND;TZID=Europe/Berlin:20250322T120000
DTSTAMP:20260424T134810
CREATED:20241220T124319Z
LAST-MODIFIED:20241220T124319Z
UID:10001351-1742637600-1742644800@www.hofladenleipzig.de
SUMMARY:Stallführung mit Verkostung
DESCRIPTION:Komm vorbei und schau dir den „Gläsernen Kuhstall“ ganz genau an! Hier bekommst du Landwirtschaft zum selbst Erleben und Anfassen. \nDu erhältst neben einer spannenden Führung eine Verkostung feinster regionaler Produkte\, wie zum Beispiel Wurst aus eigener Erzeugung und Käse. Informiere dich über die moderne Landwirtschaft in Leipzig und unterstütze deinen Bauern vor Ort. \n✔ Exklusive Führung\n✔ Zum Erleben und Anfassen\n✔ Inklusive leckerer Verkostung \nBuche jetzt deine Führung und lass dich von der Vielfalt der Landwirtschaft begeistern!
URL:https://www.hofladenleipzig.de/event/stallfuehrung-mit-verkostung-19/
LOCATION:Hofladen Leipzig\, Raiffeisenstraße 51\, Leipzig\, Sachsen\, 04249\, Deutschland
CATEGORIES:Führungen
ATTACH;FMTTYPE=image/jpeg:https://www.hofladenleipzig.de/wp-content/uploads/stallfuehrungen-kitzen-leipzig.jpg
END:VEVENT
END:VCALENDAR