BEGIN:VCALENDAR
VERSION:2.0
PRODID:-//Hofladen Leipzig Agrarprodukte Kitzen | Regionale Produkte direkt vom Landwirt - ECPv6.10.2//NONSGML v1.0//EN
CALSCALE:GREGORIAN
METHOD:PUBLISH
X-WR-CALNAME:Hofladen Leipzig Agrarprodukte Kitzen | Regionale Produkte direkt vom Landwirt
X-ORIGINAL-URL:https://www.hofladenleipzig.de
X-WR-CALDESC:Veranstaltungen für Hofladen Leipzig Agrarprodukte Kitzen | Regionale Produkte direkt vom Landwirt
REFRESH-INTERVAL;VALUE=DURATION:PT1H
X-Robots-Tag:noindex
X-PUBLISHED-TTL:PT1H
BEGIN:VTIMEZONE
TZID:Europe/Berlin
BEGIN:DAYLIGHT
TZOFFSETFROM:+0100
TZOFFSETTO:+0200
TZNAME:CEST
DTSTART:20250330T010000
END:DAYLIGHT
BEGIN:STANDARD
TZOFFSETFROM:+0200
TZOFFSETTO:+0100
TZNAME:CET
DTSTART:20251026T010000
END:STANDARD
END:VTIMEZONE
BEGIN:VEVENT
DTSTART;TZID=Europe/Berlin:20251030T160000
DTEND;TZID=Europe/Berlin:20251030T180000
DTSTAMP:20260422T171738
CREATED:20250901T130526Z
LAST-MODIFIED:20250901T130526Z
UID:10001385-1761840000-1761847200@www.hofladenleipzig.de
SUMMARY:Halloween vor dem Hofladen
DESCRIPTION:Wir möchten mit euch von 16-18 Uhr zum 3. Mal Halloween feiern. Besucht uns mit oder ohne Kostüm. \nWir werden für heiße Getränke und einen kleinen Imbiss sorgen. \nMacht wieder mit bei unserem Wettbewerb. Bringt eure geschnitzten Kürbisse mit und stellt sie vor dem Hofladen auf. Den Originellsten prämieren wir. \n 
URL:https://www.hofladenleipzig.de/event/halloween-vor-dem-hofladen/
LOCATION:Hofladen Leipzig\, Raiffeisenstraße 51\, Leipzig\, Sachsen\, 04249\, Deutschland
CATEGORIES:Veranstaltungen
END:VEVENT
END:VCALENDAR