BEGIN:VCALENDAR
VERSION:2.0
PRODID:-//Hofladen Leipzig Agrarprodukte Kitzen | Regionale Produkte direkt vom Landwirt - ECPv6.10.2//NONSGML v1.0//EN
CALSCALE:GREGORIAN
METHOD:PUBLISH
X-ORIGINAL-URL:https://www.hofladenleipzig.de
X-WR-CALDESC:Veranstaltungen für Hofladen Leipzig Agrarprodukte Kitzen | Regionale Produkte direkt vom Landwirt
REFRESH-INTERVAL;VALUE=DURATION:PT1H
X-Robots-Tag:noindex
X-PUBLISHED-TTL:PT1H
BEGIN:VTIMEZONE
TZID:Europe/Berlin
BEGIN:DAYLIGHT
TZOFFSETFROM:+0100
TZOFFSETTO:+0200
TZNAME:CEST
DTSTART:20250330T010000
END:DAYLIGHT
BEGIN:STANDARD
TZOFFSETFROM:+0200
TZOFFSETTO:+0100
TZNAME:CET
DTSTART:20251026T010000
END:STANDARD
END:VTIMEZONE
BEGIN:VEVENT
DTSTART;TZID=Europe/Berlin:20251026T160000
DTEND;TZID=Europe/Berlin:20251026T180000
DTSTAMP:20260422T183818
CREATED:20250901T130035Z
LAST-MODIFIED:20250901T130035Z
UID:10001384-1761494400-1761501600@www.hofladenleipzig.de
SUMMARY:„Wir geben unserm Affen Zucker"
DESCRIPTION:Kabarett mit Moni und Manni \nVeranstaltungsraum „Am Gläsernen Kuhstall“ \nEinlass ab 15:30 Uhr \nSeid dabei\, wenn die Lachmuskeln wieder strapaziert werden. \nKarten im Hofladen für 25€/Person erhältlich \n 
URL:https://www.hofladenleipzig.de/event/wir-geben-unserm-affen-zucker/
LOCATION:Hofladen Leipzig\, Raiffeisenstraße 51\, Leipzig\, Sachsen\, 04249\, Deutschland
CATEGORIES:Abendveranstaltungen,Veranstaltungen
END:VEVENT
END:VCALENDAR