BEGIN:VCALENDAR
VERSION:2.0
PRODID:-//Hofladen Leipzig Agrarprodukte Kitzen | Regionale Produkte direkt vom Landwirt - ECPv6.10.2//NONSGML v1.0//EN
CALSCALE:GREGORIAN
METHOD:PUBLISH
X-ORIGINAL-URL:https://www.hofladenleipzig.de
X-WR-CALDESC:Veranstaltungen für Hofladen Leipzig Agrarprodukte Kitzen | Regionale Produkte direkt vom Landwirt
REFRESH-INTERVAL;VALUE=DURATION:PT1H
X-Robots-Tag:noindex
X-PUBLISHED-TTL:PT1H
BEGIN:VTIMEZONE
TZID:Europe/Berlin
BEGIN:DAYLIGHT
TZOFFSETFROM:+0100
TZOFFSETTO:+0200
TZNAME:CEST
DTSTART:20250330T010000
END:DAYLIGHT
BEGIN:STANDARD
TZOFFSETFROM:+0200
TZOFFSETTO:+0100
TZNAME:CET
DTSTART:20251026T010000
END:STANDARD
END:VTIMEZONE
BEGIN:VEVENT
DTSTART;TZID=Europe/Berlin:20250618T173000
DTEND;TZID=Europe/Berlin:20250618T190000
DTSTAMP:20260423T003426
CREATED:20250415T130916Z
LAST-MODIFIED:20250415T130916Z
UID:10001367-1750267800-1750273200@www.hofladenleipzig.de
SUMMARY:Buchvorstellung “Die BBG - mein Leben”
DESCRIPTION:Buchvorstellung “Die BBG – mein Leben” \nThomas Vogler gibt Einblicke in seine Erlebnisse in einem Betrieb der gigantischen DDR-Kombinate\, dem VEB Bodenbearbeitungsgeräte (BBG) in Leipzig.\nUm Voranmeldung wird gebeten. \nEintritt frei!
URL:https://www.hofladenleipzig.de/event/buchvorstellung-die-bbg-mein-leben/
LOCATION:Hofladen Leipzig\, Raiffeisenstraße 51\, Leipzig\, Sachsen\, 04249\, Deutschland
CATEGORIES:Veranstaltungen
END:VEVENT
END:VCALENDAR